BEGIN:VCALENDAR
VERSION:2.0
CALSCALE:GREGORIAN
METHOD:PUBLISH
X-WR-TIMEZONE:Australia/Sydney
BEGIN:VTIMEZONE
TZID:Australia/Sydney
BEGIN:STANDARD
TZNAME:AEST
END:STANDARD
END:VTIMEZONE
BEGIN:VEVENT
DTSTART;TZID=Australia/Sydney:20190218T133000
DTEND;TZID=Australia/Sydney:20190218T150000
DTSTAMP:20190301T154415
UID:341
SUMMARY:P&amp;C Meeting
DESCRIPTION:




First P&amp;amp;C meeting of the year in the library at 1.30pm.&amp;nbsp; All parents are welcome.&amp;nbsp;


SEQUENCE:0
STATUS:CONFIRMED
TRANSP:OPAQUE
END:VEVENT
END:VCALENDAR